BEGIN:VCALENDAR
VERSION:2.0
PRODID:-//SWR Forum &amp; Resource Center - ECPv6.15.14//NONSGML v1.0//EN
CALSCALE:GREGORIAN
METHOD:PUBLISH
X-ORIGINAL-URL:https://swrforum.com
X-WR-CALDESC:Events for SWR Forum &amp; Resource Center
REFRESH-INTERVAL;VALUE=DURATION:PT1H
X-Robots-Tag:noindex
X-PUBLISHED-TTL:PT1H
BEGIN:VTIMEZONE
TZID:America/Los_Angeles
BEGIN:DAYLIGHT
TZOFFSETFROM:-0800
TZOFFSETTO:-0700
TZNAME:PDT
DTSTART:20240310T100000
END:DAYLIGHT
BEGIN:STANDARD
TZOFFSETFROM:-0700
TZOFFSETTO:-0800
TZNAME:PST
DTSTART:20241103T090000
END:STANDARD
BEGIN:DAYLIGHT
TZOFFSETFROM:-0800
TZOFFSETTO:-0700
TZNAME:PDT
DTSTART:20250309T100000
END:DAYLIGHT
BEGIN:STANDARD
TZOFFSETFROM:-0700
TZOFFSETTO:-0800
TZNAME:PST
DTSTART:20251102T090000
END:STANDARD
BEGIN:DAYLIGHT
TZOFFSETFROM:-0800
TZOFFSETTO:-0700
TZNAME:PDT
DTSTART:20260308T100000
END:DAYLIGHT
BEGIN:STANDARD
TZOFFSETFROM:-0700
TZOFFSETTO:-0800
TZNAME:PST
DTSTART:20261101T090000
END:STANDARD
END:VTIMEZONE
BEGIN:VEVENT
DTSTART;TZID=America/Los_Angeles:20250203T110000
DTEND;TZID=America/Los_Angeles:20250205T150000
DTSTAMP:20260421T045337
CREATED:20250113T230928Z
LAST-MODIFIED:20250130T010248Z
UID:5520-1738580400-1738767600@swrforum.com
SUMMARY:Wise Guide Practice & Plan Feb. 3 and 5 - Rhonda Bedee
DESCRIPTION:Practice Spelling Dictation!  \nStudy Spelling Dictation the SWR Wanda Sanseri way.  Walk through details of weekly plans\, with practical training in fingergrams\, think to spell\, and WG worksheets\, Monday and Wednesday Feb. 3 & 5\, 1:00 to 5:00 Central Time.  Each person has REQUIRED READING with a document emailed to you [print or read in email\, 26 pages].  Then in 2 days of Zoom class\, each takes turns in DICTATION and fingergrams and receives encouragement coaching.  Allow 4 hours for reading\, then 8 hours for Zoom class time – 2 sessions of 4 hours each.  This practicum is limited to six attendees.  Instructor:  endorsed trainer Rhonda Bedee of Wise Spelling.  This is a STEP 2 class of “Texas Two-Step Spelling.” \n\nPrerequisite:  SWR Basic Seminar or thorough familiarity with 70 Basic Phonograms + some Rules & experience.\nREQUIRED READING before class time is 26 pages.\nIf you can only choose one 2nd-level SWR class\, this is it!\nRegistration may transfer to a different date if needed.  DETAILS & REGISTRATION.\nZoom link is sent by email after registration.\nTIME ZONES:  Eastern 2-6\, Central 1-5\, Mountain 12-4\, Pacific 11-3\, Alaska 10-2\, Hawaii-Aleutian 9-1.
URL:https://swrforum.com/event/wise-guide-practice-plan-feb-3-and-5-rhonda-bedee/
LOCATION:Zoom\, TX
ORGANIZER;CN="Wise Spelling Rhonda Bedee":MAILTO:wisespelling.swr@att.net
END:VEVENT
BEGIN:VEVENT
DTSTART;TZID=America/Los_Angeles:20250211T110000
DTEND;TZID=America/Los_Angeles:20250212T130000
DTSTAMP:20260421T045337
CREATED:20250130T005258Z
LAST-MODIFIED:20250130T010647Z
UID:5586-1739271600-1739365200@swrforum.com
SUMMARY:Wise Guide Practice & Plan Feb. 11-12 and 18-19 - Rhonda Bedee
DESCRIPTION:Practice Spelling Dictation!  \nStudy Spelling Dictation the SWR Wanda Sanseri way.  Walk through details of weekly plans\, with practical training in fingergrams\, think to spell\, and WG worksheets\, TWO Tuesdays and TWO Wednesdays Feb. 11-12 & 18-19\, 1:00 to 3:00 Central Time.  Each person has REQUIRED READING with a document emailed to you [print or read in email\, 26 pages].  Then in 4 days of Zoom class\, each takes turns in DICTATION and fingergrams and receives encouragement coaching.  Allow 5 hours for reading\, then 8 hours for Zoom class time – 4 sessions of 2 hours each in two separate weeks makes the full class.  This practicum is limited to six attendees.  Instructor:  endorsed trainer Rhonda Bedee of Wise Spelling.  This is a STEP 2 class of “Texas Two-Step Spelling.” \n\nPrerequisite:  SWR Basic Seminar or thorough familiarity with 70 Basic Phonograms + some Rules & experience.\nIf you can only choose one 2nd-level SWR class\, this is it!\nREQUIRED READING before class time is 26 pages.\nRegistration may transfer to a different date if needed.  DETAILS & REGISTRATION.\nZoom link is sent by email after registration.\nTIME ZONES:  Eastern 2-4\, Central 1-3\, Mountain 12-2\, Pacific 11-1\, Alaska 10-12\, Hawaii-Aleutian 9-11.
URL:https://swrforum.com/event/wise-guide-practice-plan-feb-3-and-5-rhonda-bedee-copy/
LOCATION:Zoom\, TX
ORGANIZER;CN="Wise Spelling Rhonda Bedee":MAILTO:wisespelling.swr@att.net
END:VEVENT
BEGIN:VEVENT
DTSTART;TZID=America/Los_Angeles:20250218T110000
DTEND;TZID=America/Los_Angeles:20250219T130000
DTSTAMP:20260421T045337
CREATED:20250130T010658Z
LAST-MODIFIED:20250131T225246Z
UID:5595-1739876400-1739970000@swrforum.com
SUMMARY:CONTINUATION Wise Guide Practice & Plan Feb. 11-12 and 18-19
DESCRIPTION:Practice Spelling Dictation!  This is the continuation of Wise Guide class that began Feb. 11-12.\nStudy Spelling Dictation the SWR Wanda Sanseri way.  Walk through details of weekly plans\, with practical training in fingergrams\, think to spell\, and WG worksheets\, TWO Tuesdays and TWO Wednesdays Feb. 11-12 & 18-19\, 1:00 to 3:00 Central Time.  Each person has REQUIRED READING with a document emailed to you [print or read in email\, 26 pages].  Then in 4 days of Zoom class\, each takes turns in DICTATION and fingergrams and receives encouragement coaching.  Allow 5 hours for reading\, then 8 hours for Zoom class time – 4 sessions of 2 hours each in two separate weeks makes the full class.  This practicum is limited to six attendees.  Instructor:  endorsed trainer Rhonda Bedee of Wise Spelling.  This is a STEP 2 class of “Texas Two-Step Spelling.”\n\n 	Prerequisite:  SWR Basic Seminar or thorough familiarity with 70 Basic Phonograms + some Rules & experience.\n 	If you can only choose one 2nd-level SWR class\, this is it!\n 	REQUIRED READING before class time is 26 pages.\n 	Registration may transfer to a different date if needed.  DETAILS & REGISTRATION.\n 	Zoom link is sent by email after registration.\n 	TIME ZONES:  Eastern 2-4\, Central 1-3\, Mountain 12-2\, Pacific 11-1\, Alaska 10-12\, Hawaii-Aleutian 9-11.
URL:https://swrforum.com/event/wise-guide-practice-plan-feb-11-12-and-18-19-rhonda-bedee-copy/
LOCATION:Zoom\, TX
ORGANIZER;CN="Wise Spelling Rhonda Bedee":MAILTO:wisespelling.swr@att.net
END:VEVENT
END:VCALENDAR