BEGIN:VCALENDAR
VERSION:2.0
PRODID:-//SWR Forum &amp; Resource Center - ECPv6.15.14//NONSGML v1.0//EN
CALSCALE:GREGORIAN
METHOD:PUBLISH
X-ORIGINAL-URL:https://swrforum.com
X-WR-CALDESC:Events for SWR Forum &amp; Resource Center
REFRESH-INTERVAL;VALUE=DURATION:PT1H
X-Robots-Tag:noindex
X-PUBLISHED-TTL:PT1H
BEGIN:VTIMEZONE
TZID:America/Chicago
BEGIN:DAYLIGHT
TZOFFSETFROM:-0600
TZOFFSETTO:-0500
TZNAME:CDT
DTSTART:20220313T080000
END:DAYLIGHT
BEGIN:STANDARD
TZOFFSETFROM:-0500
TZOFFSETTO:-0600
TZNAME:CST
DTSTART:20221106T070000
END:STANDARD
BEGIN:DAYLIGHT
TZOFFSETFROM:-0600
TZOFFSETTO:-0500
TZNAME:CDT
DTSTART:20230312T080000
END:DAYLIGHT
BEGIN:STANDARD
TZOFFSETFROM:-0500
TZOFFSETTO:-0600
TZNAME:CST
DTSTART:20231105T070000
END:STANDARD
BEGIN:DAYLIGHT
TZOFFSETFROM:-0600
TZOFFSETTO:-0500
TZNAME:CDT
DTSTART:20240310T080000
END:DAYLIGHT
BEGIN:STANDARD
TZOFFSETFROM:-0500
TZOFFSETTO:-0600
TZNAME:CST
DTSTART:20241103T070000
END:STANDARD
END:VTIMEZONE
BEGIN:VEVENT
DTSTART;TZID=America/Chicago:20230630T130000
DTEND;TZID=America/Chicago:20230701T160000
DTSTAMP:20260422T064146
CREATED:20230531T232000Z
LAST-MODIFIED:20230627T053807Z
UID:3329-1688130000-1688227200@swrforum.com
SUMMARY:SWR Advanced June 30 + July 1\,3\,5-8\,10 – Zoom with ELECTIVES! part 1
DESCRIPTION:Build all Black Log 39 Reference Pages!  If you’ve attended an SWR Step 1 BASIC class & will teach older students (3rd grade & up\, MS\, HS\, adults)\, you are ready for Step 2 SWR ADVANCED!  Begin with the 4 Black Log ☆ reference pages needed at the beginning of every school year and work through all 39 reference pages in an 8-part course.  Instructor Rhonda Bedee models rules\, reference pages\, and advanced phonograms.  Practical class with interactive instruction.   \n\nSchools may request invoice or purchase order for a group:  wisespelling.swr@att.net or call/text 281.382.6746.\nUNIQUE TICKET OPTIONS!  Choose 1 session for $35 as an elective.  Choose a bundle of 3 days for $90.  Choose entire series for $225. \nIf you have to miss a session due to emergency\, you can request a video view afterwards.  \n\nJune 30\, July 1\,3\,5-8\,10.  Central Time 1-4 P.M.   Adjust for your time zone.\n1 June 30:  ☆ Consonants & Vowels\, ☆ Multi-letter phonograms\n2 July 1:  ☆ Silent final e; ☆ a-e-i-o-u-y page; Numbers\, Greek\, Latin\, Roman numerals\n3 July 3:  Grammar; 5 spellings of /sh/; /ed/ Past Tense\n4 July 5:  Vocabulary plus Affixes; Abbreviations; 7 spellings of /er/\n5 July 6:  Plurals\, Contractions\, E’s Dropping rule\n6 July 7:  Homophones\, Heteronyms; 1-1-1 rule; y’s Exchanging rule\n7 July 8:  Plus Endings\, Dictionary Skills\, Dismiss L\n8 July 10:  Advanced Phonograms; 2-1-1-Accent rule; ie-ei rule
URL:https://swrforum.com/event/swr-advanced-june-27-30-july-5-8-wise-spelling-on-zoom-with-electives-part-1/
LOCATION:Zoom\, TX
ATTACH;FMTTYPE=image/jpeg:https://swrforum.com/wp-content/uploads/2023/05/23-06-Rhonda-Advanced.jpg
END:VEVENT
BEGIN:VEVENT
DTSTART;TZID=America/Chicago:20230703T130000
DTEND;TZID=America/Chicago:20230708T160000
DTSTAMP:20260422T064146
CREATED:20230531T232229Z
LAST-MODIFIED:20230627T054424Z
UID:3331-1688389200-1688832000@swrforum.com
SUMMARY:SWR Advanced June 30 + July 1\,3\,5-8\,10 – Zoom with ELECTIVES! part 2
DESCRIPTION:Build all Black Log 39 Reference Pages!  If you’ve attended an SWR Step 1 BASIC class & will teach older students (3rd grade & up\, MS\, HS\, adults)\, you are ready for Step 2 SWR ADVANCED!  Begin with the 4 Black Log ☆ reference pages needed at the beginning of every school year and work through all 39 reference pages in an 8-part course.  Instructor Rhonda Bedee models rules\, reference pages\, and advanced phonograms.  Practical class with interactive instruction.   \n\nSchools may request invoice or purchase order for a group:  wisespelling.swr@att.net or call/text 281.382.6746.\nUNIQUE TICKET OPTIONS!  Choose 1 session for $35 as an elective.  Choose a bundle of 3 days for $90.  Choose entire series for $225. \nIf you have to miss a session due to emergency\, you can request a video view afterwards.  \n\nJune 30\, July 1\,3\,5-8\,10.  Central Time 1-4 P.M.   Adjust for your time zone.\n1 June 30:  ☆ Consonants & Vowels\, ☆ Multi-letter phonograms\n2 July 1:  ☆ Silent final e; ☆ a-e-i-o-u-y page; Numbers\, Greek\, Latin\, Roman numerals\n3 July 3:  Grammar; 5 spellings of /sh/; /ed/ Past Tense\n4 July 5:  Vocabulary plus Affixes; Abbreviations; 7 spellings of /er/\n5 July 6:  Plurals\, Contractions\, E’s Dropping rule\n6 July 7:  Homophones\, Heteronyms; 1-1-1 rule; y’s Exchanging rule\n7 July 8:  Plus Endings\, Dictionary Skills\, Dismiss L\n8 July 10:  Advanced Phonograms; 2-1-1-Accent rule; ie-ei rule
URL:https://swrforum.com/event/swr-advanced-june-27-30-july-5-8-wise-spelling-on-zoom-with-electives-part-2/
LOCATION:Zoom\, TX
ATTACH;FMTTYPE=image/jpeg:https://swrforum.com/wp-content/uploads/2023/05/23-06-Rhonda-Advanced-b.jpg
END:VEVENT
BEGIN:VEVENT
DTSTART;TZID=America/Chicago:20230711T090000
DTEND;TZID=America/Chicago:20230713T160000
DTSTAMP:20260422T064146
CREATED:20230627T060155Z
LAST-MODIFIED:20230627T060506Z
UID:3577-1689066000-1689264000@swrforum.com
SUMMARY:Basic July 11-13 by Carolyn Gibbens – SWR Texas on Zoom
DESCRIPTION:Endorsed trainer Carolyn Gibbens provides the instruction you need for studying English spelling to teach the SWR way!  Study Steps 1 through 27 for teaching preschoolers\, Kindergarteners\, 1st and 2nd graders; focus on handwriting\, Charlotte Mason reading ideas\, phonograms\, rules\, reference pages.  $150 or $75 Special Guests.  Materials & booklet to print before class is provided via email after registration. \nQuestions: 832.483.3391.  Register: SWR Texas website. \nThis one meets on Zoom in Central Time from 9:00 to 4:00.  Tuesday-Wednesday-Thursday on July 11-13\, 2023.  See you there!
URL:https://swrforum.com/event/basic-july-11-13-by-carolyn-gibbens-swr-texas-on-zoom/
LOCATION:Zoom\, TX
ATTACH;FMTTYPE=image/jpeg:https://swrforum.com/wp-content/uploads/2023/06/23-07-Carolyn-Basic.jpg
END:VEVENT
BEGIN:VEVENT
DTSTART;TZID=America/Chicago:20230724T130000
DTEND;TZID=America/Chicago:20230726T160000
DTSTAMP:20260422T064146
CREATED:20230601T002419Z
LAST-MODIFIED:20230601T004132Z
UID:3338-1690203600-1690387200@swrforum.com
SUMMARY:SWR Intermediate for Primary Log – July 24-26 from Wise Spelling on Zoom
DESCRIPTION:Spelling rules rule! \nSWR INTERMEDIATE on Zoom.  This is a follow-up “Step 2” seminar for Texas Two-Step Spelling.  Focus on teaching 1st-3rd graders.  Since Step 1 Basic addressed Steps 1-27 in the Primary Log\, here in Intermediate you will complete the Scope & Sequence with a work-through of Steps 28-40 using Primary Log + Chart Masters.  Instructor Rhonda Bedee models rules\, reference pages\, and advanced phonograms.  Practical class with interactive instruction.  You will observe & participate like the students you teach\, and after observing Rhonda you may walk through a turn of spelling rule Q&A in the teacher role.    \n\nSchools may request invoice or purchase order for a group:  wisespelling.swr@att.net or call/text 281.382.6746.\nTo teach in Black Log with older students\, consider SWR Advanced Seminar instead.
URL:https://swrforum.com/event/swr-intermediate-for-primary-log-july-24-26-from-wise-spelling-on-zoom/
LOCATION:Zoom\, TX
ATTACH;FMTTYPE=image/jpeg:https://swrforum.com/wp-content/uploads/2023/05/23-07-Rhonda-Intermediate.jpg
END:VEVENT
BEGIN:VEVENT
DTSTART;TZID=America/Chicago:20230727T130000
DTEND;TZID=America/Chicago:20230729T160000
DTSTAMP:20260422T064146
CREATED:20230601T003649Z
LAST-MODIFIED:20230601T003820Z
UID:3343-1690462800-1690646400@swrforum.com
SUMMARY:WISE Guide Practice & Plan – July 27-29 from Wise Spelling on Zoom
DESCRIPTION:Practice Spelling Dictation!\nStudy Spelling Dictation the SWR way:   Walk through weekly plans\, with practical training in fingergrams\, think to spell\, and WG worksheets\, in 3-hour sessions LAST WEEK OF JULY – Thursday-Friday-Saturday\, 1:00 to 4:00 Central Time.  Each person will take turns in DICTATION and fingergrams and receive encouragement coaching.  This practicum is limited to 8 attendees. \nThis is a STEP 2 class of “Texas Two-Step Spelling.”  Prerequisite:  SWR Basic Seminar or thorough familiarity with 70 Basic Phonograms + some Rules & experience.  If you can only choose 1 higher-level SWR class\, this is it!  Instructor:  endorsed trainer Rhonda Bedee of Wise Spelling.   Zoom link is sent by email after registration.   Registration may transfer to a different date if needed.
URL:https://swrforum.com/event/wise-guide-practice-plan-july-27-29-from-wise-spelling-on-zoom/
LOCATION:Zoom\, TX
ATTACH;FMTTYPE=image/jpeg:https://swrforum.com/wp-content/uploads/2023/05/23-07-Rhonda-WGPP.jpg
END:VEVENT
BEGIN:VEVENT
DTSTART;TZID=America/Chicago:20230731T090000
DTEND;TZID=America/Chicago:20230802T160000
DTSTAMP:20260422T064146
CREATED:20230627T061004Z
LAST-MODIFIED:20230627T061004Z
UID:3580-1690794000-1690992000@swrforum.com
SUMMARY:Basic Seminar July 31-Aug. 2 - Carolyn Gibbens on Zoom
DESCRIPTION:Endorsed trainer Carolyn Gibbens provides the instruction you need for studying English spelling to teach the SWR way!  Study Steps 1 through 27 for teaching preschoolers\, Kindergarteners\, 1st and 2nd graders; focus on handwriting\, Charlotte Mason reading ideas\, phonograms\, rules\, reference pages.  $150 or $75 Special Guests.  Materials & booklet to print before class is provided via email after registration. \nQuestions: 832.483.3391.  Register: SWR Texas website. \nThis one meets on Zoom in Central Time from 9:00 to 4:00.  Tuesday-Wednesday-Thursday on July 31-Aug. 2\, 2023.  See you there!
URL:https://swrforum.com/event/basic-seminar-july-31-aug-2-carolyn-gibbens-on-zoom/
LOCATION:Zoom\, TX
ATTACH;FMTTYPE=image/jpeg:https://swrforum.com/wp-content/uploads/2023/06/23-07-08-Carolyn-Basic.jpg
END:VEVENT
END:VCALENDAR