BEGIN:VCALENDAR
VERSION:2.0
PRODID:-//SWR Forum &amp; Resource Center - ECPv6.15.14//NONSGML v1.0//EN
CALSCALE:GREGORIAN
METHOD:PUBLISH
X-ORIGINAL-URL:https://swrforum.com
X-WR-CALDESC:Events for SWR Forum &amp; Resource Center
REFRESH-INTERVAL;VALUE=DURATION:PT1H
X-Robots-Tag:noindex
X-PUBLISHED-TTL:PT1H
BEGIN:VTIMEZONE
TZID:America/Los_Angeles
BEGIN:DAYLIGHT
TZOFFSETFROM:-0800
TZOFFSETTO:-0700
TZNAME:PDT
DTSTART:20250309T100000
END:DAYLIGHT
BEGIN:STANDARD
TZOFFSETFROM:-0700
TZOFFSETTO:-0800
TZNAME:PST
DTSTART:20251102T090000
END:STANDARD
BEGIN:DAYLIGHT
TZOFFSETFROM:-0800
TZOFFSETTO:-0700
TZNAME:PDT
DTSTART:20260308T100000
END:DAYLIGHT
BEGIN:STANDARD
TZOFFSETFROM:-0700
TZOFFSETTO:-0800
TZNAME:PST
DTSTART:20261101T090000
END:STANDARD
BEGIN:DAYLIGHT
TZOFFSETFROM:-0800
TZOFFSETTO:-0700
TZNAME:PDT
DTSTART:20270314T100000
END:DAYLIGHT
BEGIN:STANDARD
TZOFFSETFROM:-0700
TZOFFSETTO:-0800
TZNAME:PST
DTSTART:20271107T090000
END:STANDARD
END:VTIMEZONE
BEGIN:VEVENT
DTSTART;TZID=America/Los_Angeles:20260824T090000
DTEND;TZID=America/Los_Angeles:20260826T160000
DTSTAMP:20260425T100818
CREATED:20260425T162909Z
LAST-MODIFIED:20260425T163207Z
UID:6460-1787562000-1787760000@swrforum.com
SUMMARY:2026 Late August Basic Seminar on ZOOM-Carolyn Gibbens
DESCRIPTION:August 24-26\, 2026 \n\nMonday-Wednesday\, August 24-26\, 2026\, 9:00 am to 4:00 pm\n\nAll times are Central Time Zone \nRegister Here
URL:https://swrforum.com/event/2026-early-august-basic-seminar-on-zoom-carolyn-gibbens-copy/
LOCATION:Zoom\, TX
ORGANIZER;CN="Carolyn Gibbens":MAILTO:bob@swr-texastrainers.net
END:VEVENT
END:VCALENDAR