BEGIN:VCALENDAR
VERSION:2.0
PRODID:-//SWR Forum &amp; Resource Center - ECPv6.15.14//NONSGML v1.0//EN
CALSCALE:GREGORIAN
METHOD:PUBLISH
X-ORIGINAL-URL:https://swrforum.com
X-WR-CALDESC:Events for SWR Forum &amp; Resource Center
REFRESH-INTERVAL;VALUE=DURATION:PT1H
X-Robots-Tag:noindex
X-PUBLISHED-TTL:PT1H
BEGIN:VTIMEZONE
TZID:America/Los_Angeles
BEGIN:DAYLIGHT
TZOFFSETFROM:-0800
TZOFFSETTO:-0700
TZNAME:PDT
DTSTART:20240310T100000
END:DAYLIGHT
BEGIN:STANDARD
TZOFFSETFROM:-0700
TZOFFSETTO:-0800
TZNAME:PST
DTSTART:20241103T090000
END:STANDARD
BEGIN:DAYLIGHT
TZOFFSETFROM:-0800
TZOFFSETTO:-0700
TZNAME:PDT
DTSTART:20250309T100000
END:DAYLIGHT
BEGIN:STANDARD
TZOFFSETFROM:-0700
TZOFFSETTO:-0800
TZNAME:PST
DTSTART:20251102T090000
END:STANDARD
BEGIN:DAYLIGHT
TZOFFSETFROM:-0800
TZOFFSETTO:-0700
TZNAME:PDT
DTSTART:20260308T100000
END:DAYLIGHT
BEGIN:STANDARD
TZOFFSETFROM:-0700
TZOFFSETTO:-0800
TZNAME:PST
DTSTART:20261101T090000
END:STANDARD
END:VTIMEZONE
BEGIN:VEVENT
DTSTART;TZID=America/Los_Angeles:20250318T113000
DTEND;TZID=America/Los_Angeles:20250322T173000
DTSTAMP:20260421T075405
CREATED:20250223T024314Z
LAST-MODIFIED:20250301T005638Z
UID:5628-1742297400-1742664600@swrforum.com
SUMMARY:Advanced Seminar on Zoom March 18-22 - Rhonda Bedee
DESCRIPTION:If you’ve attended an SWR Step 1 BASIC class & will teach older students (3rd grade & up\, MS\, HS\, adults)\, you may be ready for Step 2 SWR ADVANCED!  Begin with the 4 Black Log ☆ reference pages needed at the beginning of every school year and work through all 39 reference pages in a 5-day course.  Instructor Rhonda Bedee models rules\, reference pages\, and advanced phonograms.  Practical class with interactive instruction. \n\nSchools may request invoice or purchase order for a group:  wisespelling.swr@att.net or call/text 281.382.6746.  Details & Registration.\nUNIQUE TICKET OPTIONS!  Choose 1 session for $50 as an elective.  Choose a bundle of 3 days for $130.  Take entire series for $225.\nIf you must miss a session due to emergency\, you can request a video view afterwards.\n10-minute breaks + unique time structure with 1-hour breaks.  THIS ONE HAS AN ODD SCHEDULE!\n\nMarch 18-22.  Central Time 1:30-3:30\, BREAK then 4:30-7:30 P.M.  Adjust for your time zone.\nEastern 2:30- 8:30\, Central 1:30-7:30\, Mountain 12:30-6:30\, Pacific 11:30-5:30\, Alaska 10:30-4:30\, Hawaii-Aleutian 9:30-3:30\nMarch 18:  ☆ Consonants & Vowels\, ff-ll-ss ☆ Multi-letter phonograms; ☆ Silent final e\nMarch 19:  ☆ a-e-i-o-u\, Numbers\, Greek\, Latin\, Roman numerals; Grammar; 5 spellings of /sh/; /ed/ Past Tense\nMarch 20:  Vocabulary + Affixes; Abbreviations; 7 spellings of /er/; Plurals; Contractions; e’s Dropping rule\nMarch 21:  Homophones\, Heteronyms; 1-1-1 rule [a SHORT day]\nMarch 22:  y’s Exchanging rule; Plus Endings; Dictionary Skills; Dismiss L; Advanced Phonograms; 2-1-1-Accent rule; ie-ei rule
URL:https://swrforum.com/event/advanced-seminar-on-zoom-sept-30-to-oct-4-rhonda-bedee-copy/
LOCATION:Zoom\, TX
ORGANIZER;CN="Rhonda Bedee":MAILTO:wisespelling.swr@att.net
END:VEVENT
END:VCALENDAR