BEGIN:VCALENDAR
VERSION:2.0
PRODID:-//SWR Forum &amp; Resource Center - ECPv6.15.14//NONSGML v1.0//EN
CALSCALE:GREGORIAN
METHOD:PUBLISH
X-WR-CALNAME:SWR Forum &amp; Resource Center
X-ORIGINAL-URL:https://swrforum.com
X-WR-CALDESC:Events for SWR Forum &amp; Resource Center
REFRESH-INTERVAL;VALUE=DURATION:PT1H
X-Robots-Tag:noindex
X-PUBLISHED-TTL:PT1H
BEGIN:VTIMEZONE
TZID:America/Los_Angeles
BEGIN:DAYLIGHT
TZOFFSETFROM:-0800
TZOFFSETTO:-0700
TZNAME:PDT
DTSTART:20230312T100000
END:DAYLIGHT
BEGIN:STANDARD
TZOFFSETFROM:-0700
TZOFFSETTO:-0800
TZNAME:PST
DTSTART:20231105T090000
END:STANDARD
BEGIN:DAYLIGHT
TZOFFSETFROM:-0800
TZOFFSETTO:-0700
TZNAME:PDT
DTSTART:20240310T100000
END:DAYLIGHT
BEGIN:STANDARD
TZOFFSETFROM:-0700
TZOFFSETTO:-0800
TZNAME:PST
DTSTART:20241103T090000
END:STANDARD
BEGIN:DAYLIGHT
TZOFFSETFROM:-0800
TZOFFSETTO:-0700
TZNAME:PDT
DTSTART:20250309T100000
END:DAYLIGHT
BEGIN:STANDARD
TZOFFSETFROM:-0700
TZOFFSETTO:-0800
TZNAME:PST
DTSTART:20251102T090000
END:STANDARD
END:VTIMEZONE
BEGIN:VEVENT
DTSTART;TZID=America/Los_Angeles:20241114T230000
DTEND;TZID=America/Los_Angeles:20241115T150000
DTSTAMP:20260421T021855
CREATED:20240423T062958Z
LAST-MODIFIED:20241028T000904Z
UID:4821-1731625200-1731682800@swrforum.com
SUMMARY:WISE Guide Practice & Plan - Nov. 14-15
DESCRIPTION:Practice Spelling Dictation!\nStudy Spelling Dictation the SWR way.  Walk through weekly plans\, with practical training in fingergrams\, think to spell\, and WG worksheets\, Thursday and Friday Nov. 14-15\, 1:00 to 5:00 Central Time.  Each person will preview a preliminary video and then in class will take turns in DICTATION and fingergrams and will receive encouragement coaching; allow 2 hours for preview then 8 hours for Zoom class time.  This practicum is limited to 8 attendees.  Instructor:  endorsed trainer Rhonda Bedee of Wise Spelling.  This is a STEP 2 class of “Texas Two-Step Spelling.” \n\nPrerequisite:  SWR Basic Seminar or thorough familiarity with 70 Basic Phonograms + some Rules & experience.\nIf you can only choose 1 2nd-level SWR class\, this is it!\nRegistration may transfer to a different date if needed.\nZoom link is sent by email after registration.\nTIMES ZONES:  Eastern 2-6\, Central 1-5\, Mountain 12-4\, Pacific 11-3\, Alaska 10-2\, Hawaii-Aleutian 9-1.
URL:https://swrforum.com/event/wise-guide-practice-plan-nov-14-15/
LOCATION:Zoom\, TX
ORGANIZER;CN="Wise Spelling Rhonda Bedee":MAILTO:wisespelling.swr@att.net
END:VEVENT
END:VCALENDAR