BEGIN:VCALENDAR
VERSION:2.0
PRODID:-//SWR Forum &amp; Resource Center - ECPv6.15.14//NONSGML v1.0//EN
CALSCALE:GREGORIAN
METHOD:PUBLISH
X-WR-CALNAME:SWR Forum &amp; Resource Center
X-ORIGINAL-URL:https://swrforum.com
X-WR-CALDESC:Events for SWR Forum &amp; Resource Center
REFRESH-INTERVAL;VALUE=DURATION:PT1H
X-Robots-Tag:noindex
X-PUBLISHED-TTL:PT1H
BEGIN:VTIMEZONE
TZID:America/Los_Angeles
BEGIN:DAYLIGHT
TZOFFSETFROM:-0800
TZOFFSETTO:-0700
TZNAME:PDT
DTSTART:20230312T100000
END:DAYLIGHT
BEGIN:STANDARD
TZOFFSETFROM:-0700
TZOFFSETTO:-0800
TZNAME:PST
DTSTART:20231105T090000
END:STANDARD
BEGIN:DAYLIGHT
TZOFFSETFROM:-0800
TZOFFSETTO:-0700
TZNAME:PDT
DTSTART:20240310T100000
END:DAYLIGHT
BEGIN:STANDARD
TZOFFSETFROM:-0700
TZOFFSETTO:-0800
TZNAME:PST
DTSTART:20241103T090000
END:STANDARD
BEGIN:DAYLIGHT
TZOFFSETFROM:-0800
TZOFFSETTO:-0700
TZNAME:PDT
DTSTART:20250309T100000
END:DAYLIGHT
BEGIN:STANDARD
TZOFFSETFROM:-0700
TZOFFSETTO:-0800
TZNAME:PST
DTSTART:20251102T090000
END:STANDARD
END:VTIMEZONE
BEGIN:VEVENT
DTSTART;TZID=America/Los_Angeles:20241021T110000
DTEND;TZID=America/Los_Angeles:20241022T150000
DTSTAMP:20260421T005055
CREATED:20240423T051251Z
LAST-MODIFIED:20240921T174014Z
UID:4803-1729508400-1729609200@swrforum.com
SUMMARY:WISE Guide Practice & Plan – Oct. 21-22
DESCRIPTION:Practice Spelling Dictation!\nStudy Spelling Dictation the SWR way.  Walk through weekly plans\, with practical training in fingergrams\, think to spell\, and WG worksheets\, Monday and Tuesday Oct. 21-22\, 1:00 to 5:00 Central Time (2nd day is shorter).  Each person will read a preliminary document (26 pages) BEFORE Zoom class\, then in class will take turns in DICTATION and fingergrams and receive encouragement coaching; allow 2 hours for required reading then 7 hours for Zoom class time.  This practicum is limited to 8 attendees.  Instructor:  endorsed trainer Rhonda Bedee of Wise Spelling.  This is a STEP 2 class of “Texas Two-Step Spelling.” \n\nPrerequisite:  SWR Basic Seminar\, or thorough familiarity with 70 Basic Phonograms + some Rules & experience.\nIf you can only choose 1 2nd-level SWR class\, this is it!\nRegistration may transfer to a different date if needed.  Details & Registration.\nZoom link + required reading document is sent by email after registration.\nTIMES ZONES:  Eastern 2-6\, Central 1-5\, Mountain 12-4\, Pacific 11-3\, Alaska 10-2\, Hawaii-Aleutian 9-1.
URL:https://swrforum.com/event/wise-guide-practice-plan-oct-21-23-day-1/
LOCATION:Zoom\, TX
ORGANIZER;CN="Wise Spelling Rhonda Bedee":MAILTO:wisespelling.swr@att.net
END:VEVENT
END:VCALENDAR