BEGIN:VCALENDAR
VERSION:2.0
PRODID:-//SWR Forum &amp; Resource Center - ECPv6.15.14//NONSGML v1.0//EN
CALSCALE:GREGORIAN
METHOD:PUBLISH
X-WR-CALNAME:SWR Forum &amp; Resource Center
X-ORIGINAL-URL:https://swrforum.com
X-WR-CALDESC:Events for SWR Forum &amp; Resource Center
REFRESH-INTERVAL;VALUE=DURATION:PT1H
X-Robots-Tag:noindex
X-PUBLISHED-TTL:PT1H
BEGIN:VTIMEZONE
TZID:America/Los_Angeles
BEGIN:DAYLIGHT
TZOFFSETFROM:-0800
TZOFFSETTO:-0700
TZNAME:PDT
DTSTART:20230312T100000
END:DAYLIGHT
BEGIN:STANDARD
TZOFFSETFROM:-0700
TZOFFSETTO:-0800
TZNAME:PST
DTSTART:20231105T090000
END:STANDARD
BEGIN:DAYLIGHT
TZOFFSETFROM:-0800
TZOFFSETTO:-0700
TZNAME:PDT
DTSTART:20240310T100000
END:DAYLIGHT
BEGIN:STANDARD
TZOFFSETFROM:-0700
TZOFFSETTO:-0800
TZNAME:PST
DTSTART:20241103T090000
END:STANDARD
BEGIN:DAYLIGHT
TZOFFSETFROM:-0800
TZOFFSETTO:-0700
TZNAME:PDT
DTSTART:20250309T100000
END:DAYLIGHT
BEGIN:STANDARD
TZOFFSETFROM:-0700
TZOFFSETTO:-0800
TZNAME:PST
DTSTART:20251102T090000
END:STANDARD
END:VTIMEZONE
BEGIN:VEVENT
DTSTART;TZID=America/Los_Angeles:20240930T113000
DTEND;TZID=America/Los_Angeles:20241004T160000
DTSTAMP:20260421T005034
CREATED:20240918T024437Z
LAST-MODIFIED:20240921T234614Z
UID:5372-1727695800-1728057600@swrforum.com
SUMMARY:Advanced Seminar on Zoom Sept. 30 to Oct. 4 - Rhonda Bedee
DESCRIPTION:If you’ve attended an SWR Step 1 BASIC class & will teach older students (3rd grade & up\, MS\, HS\, adults)\, you may be ready for Step 2 SWR ADVANCED!  Begin with the 4 Black Log ☆ reference pages needed at the beginning of every school year and work through all 39 reference pages in a 5-part course.  Instructor Rhonda Bedee models rules\, reference pages\, and advanced phonograms.  Practical class with interactive instruction. \n\nSchools may request invoice or purchase order for a group:  wisespelling.swr@att.net or call/text 281.382.6746.  Details & Registration.\nUNIQUE TICKET OPTIONS!  Choose 1 session for $50 as an elective.  Choose a bundle of 3 days for $130.  Take entire series for $225.\nIf you must miss a session due to emergency\, you can request a video view afterwards.\n10-minute breaks\n\nSept. 30-Oct. 4.  Central Time 1:30 P.M. to 6 P.M.  Adjust for your time zone.\nEastern 2:30-7\, Central 1:30-6\, Mountain 12:30-5\, Pacific 11:30-4\, Alaska 10:30-3\, Hawaii-Aleutian 9:30-2\n1. Sept. 30:  ☆ Consonants & Vowels\, ff-ll-ss ☆ Multi-letter phonograms; ☆ Silent final e; ☆ a-e-i-o-u-y page\n2. Oct. 1:  Numbers\, Greek\, Latin\, Roman numerals; Grammar; 5 spellings of /sh/; /ed/ Past Tense\n3. Oct. 2:   Vocabulary plus Affixes; Abbreviations; 7 spellings of /er/; Plurals\, Contractions\n4. Oct. 3:   E’s Dropping rule; Homophones\, Heteronyms; 1-1-1 rule; y’s Exchanging rule; Plus Endings\n5. Oct. 4:   Dictionary Skills\, Dismiss L; Advanced Phonograms; 2-1-1-Accent rule; ie-ei rule
URL:https://swrforum.com/event/advanced-seminar-on-zoom-sept-30-to-oct-4-rhonda-bedee/
LOCATION:Zoom\, TX
ORGANIZER;CN="Rhonda Bedee":MAILTO:wisespelling.swr@att.net
END:VEVENT
END:VCALENDAR