BEGIN:VCALENDAR
VERSION:2.0
PRODID:-//SWR Forum &amp; Resource Center - ECPv6.15.14//NONSGML v1.0//EN
CALSCALE:GREGORIAN
METHOD:PUBLISH
X-WR-CALNAME:SWR Forum &amp; Resource Center
X-ORIGINAL-URL:https://swrforum.com
X-WR-CALDESC:Events for SWR Forum &amp; Resource Center
REFRESH-INTERVAL;VALUE=DURATION:PT1H
X-Robots-Tag:noindex
X-PUBLISHED-TTL:PT1H
BEGIN:VTIMEZONE
TZID:America/Chicago
BEGIN:DAYLIGHT
TZOFFSETFROM:-0600
TZOFFSETTO:-0500
TZNAME:CDT
DTSTART:20220313T080000
END:DAYLIGHT
BEGIN:STANDARD
TZOFFSETFROM:-0500
TZOFFSETTO:-0600
TZNAME:CST
DTSTART:20221106T070000
END:STANDARD
BEGIN:DAYLIGHT
TZOFFSETFROM:-0600
TZOFFSETTO:-0500
TZNAME:CDT
DTSTART:20230312T080000
END:DAYLIGHT
BEGIN:STANDARD
TZOFFSETFROM:-0500
TZOFFSETTO:-0600
TZNAME:CST
DTSTART:20231105T070000
END:STANDARD
BEGIN:DAYLIGHT
TZOFFSETFROM:-0600
TZOFFSETTO:-0500
TZNAME:CDT
DTSTART:20240310T080000
END:DAYLIGHT
BEGIN:STANDARD
TZOFFSETFROM:-0500
TZOFFSETTO:-0600
TZNAME:CST
DTSTART:20241103T070000
END:STANDARD
END:VTIMEZONE
BEGIN:VEVENT
DTSTART;TZID=America/Chicago:20230816T160000
DTEND;TZID=America/Chicago:20230816T183000
DTSTAMP:20260422T063837
CREATED:20230601T011917Z
LAST-MODIFIED:20230605T214024Z
UID:3351-1692201600-1692210600@swrforum.com
SUMMARY:SWR Parents II class from Wise Spelling
DESCRIPTION:Spell to Write and Read seminars help you teach even better!\nThis 2.5 hour class promotes good spelling practices in the daily assignments and helps with rules for adding suffixes.\nDesigned by request for parent-partnered schools as a refresher and further help for mothers and fathers as co-teachers of SWR.
URL:https://swrforum.com/event/swr-parents-ii-class-from-wise-spelling/
LOCATION:Zoom\, TX
ATTACH;FMTTYPE=image/jpeg:https://swrforum.com/wp-content/uploads/2023/05/23-08-Rhonda-Parents-II.jpg
END:VEVENT
END:VCALENDAR