BEGIN:VCALENDAR
VERSION:2.0
PRODID:-//SWR Forum &amp; Resource Center - ECPv6.15.14//NONSGML v1.0//EN
CALSCALE:GREGORIAN
METHOD:PUBLISH
X-WR-CALNAME:SWR Forum &amp; Resource Center
X-ORIGINAL-URL:https://swrforum.com
X-WR-CALDESC:Events for SWR Forum &amp; Resource Center
REFRESH-INTERVAL;VALUE=DURATION:PT1H
X-Robots-Tag:noindex
X-PUBLISHED-TTL:PT1H
BEGIN:VTIMEZONE
TZID:America/Chicago
BEGIN:DAYLIGHT
TZOFFSETFROM:-0600
TZOFFSETTO:-0500
TZNAME:CDT
DTSTART:20220313T080000
END:DAYLIGHT
BEGIN:STANDARD
TZOFFSETFROM:-0500
TZOFFSETTO:-0600
TZNAME:CST
DTSTART:20221106T070000
END:STANDARD
BEGIN:DAYLIGHT
TZOFFSETFROM:-0600
TZOFFSETTO:-0500
TZNAME:CDT
DTSTART:20230312T080000
END:DAYLIGHT
BEGIN:STANDARD
TZOFFSETFROM:-0500
TZOFFSETTO:-0600
TZNAME:CST
DTSTART:20231105T070000
END:STANDARD
BEGIN:DAYLIGHT
TZOFFSETFROM:-0600
TZOFFSETTO:-0500
TZNAME:CDT
DTSTART:20240310T080000
END:DAYLIGHT
BEGIN:STANDARD
TZOFFSETFROM:-0500
TZOFFSETTO:-0600
TZNAME:CST
DTSTART:20241103T070000
END:STANDARD
END:VTIMEZONE
BEGIN:VEVENT
DTSTART;TZID=America/Chicago:20230814T130000
DTEND;TZID=America/Chicago:20230815T170000
DTSTAMP:20260422T063843
CREATED:20230601T004855Z
LAST-MODIFIED:20230801T035853Z
UID:3349-1692018000-1692118800@swrforum.com
SUMMARY:WISE Guide Practice & Plan – Aug. 14-15 - Rhonda Bedee on Zoom
DESCRIPTION:Practice Spelling Dictation!\nStudy Spelling Dictation the SWR way:   Walk through weekly plans\, with practical training in fingergrams\, think to spell\, and WG worksheets\, in 4-hour sessions 3rd WEEK OF AUGUST – Monday-Tuesday\, 1:00 to 5:00 Central Time.  Each person will take turns in DICTATION and fingergrams and receive encouragement coaching.  This practicum is limited to 8 attendees. \nThis is a STEP 2 class of “Texas Two-Step Spelling.”  Prerequisite:  SWR Basic Seminar or thorough familiarity with 70 Basic Phonograms + some Rules & experience.  If you can only choose 1 higher-level SWR class\, this is it!  Instructor:  endorsed trainer Rhonda Bedee of Wise Spelling.   Zoom link is sent by email after registration.   Registration may transfer to a different date if needed.
URL:https://swrforum.com/event/wise-guide-practice-plan-july-27-29-from-wise-spelling-on-zoom-2/
LOCATION:Zoom\, TX
ATTACH;FMTTYPE=image/jpeg:https://swrforum.com/wp-content/uploads/2023/05/23-08-Rhonda-WGPP.jpg
END:VEVENT
END:VCALENDAR