BEGIN:VCALENDAR
VERSION:2.0
PRODID:-//SWR Forum &amp; Resource Center - ECPv6.15.14//NONSGML v1.0//EN
CALSCALE:GREGORIAN
METHOD:PUBLISH
X-WR-CALNAME:SWR Forum &amp; Resource Center
X-ORIGINAL-URL:https://swrforum.com
X-WR-CALDESC:Events for SWR Forum &amp; Resource Center
REFRESH-INTERVAL;VALUE=DURATION:PT1H
X-Robots-Tag:noindex
X-PUBLISHED-TTL:PT1H
BEGIN:VTIMEZONE
TZID:America/New_York
BEGIN:DAYLIGHT
TZOFFSETFROM:-0500
TZOFFSETTO:-0400
TZNAME:EDT
DTSTART:20220313T070000
END:DAYLIGHT
BEGIN:STANDARD
TZOFFSETFROM:-0400
TZOFFSETTO:-0500
TZNAME:EST
DTSTART:20221106T060000
END:STANDARD
BEGIN:DAYLIGHT
TZOFFSETFROM:-0500
TZOFFSETTO:-0400
TZNAME:EDT
DTSTART:20230312T070000
END:DAYLIGHT
BEGIN:STANDARD
TZOFFSETFROM:-0400
TZOFFSETTO:-0500
TZNAME:EST
DTSTART:20231105T060000
END:STANDARD
BEGIN:DAYLIGHT
TZOFFSETFROM:-0500
TZOFFSETTO:-0400
TZNAME:EDT
DTSTART:20240310T070000
END:DAYLIGHT
BEGIN:STANDARD
TZOFFSETFROM:-0400
TZOFFSETTO:-0500
TZNAME:EST
DTSTART:20241103T060000
END:STANDARD
END:VTIMEZONE
BEGIN:VTIMEZONE
TZID:America/Chicago
BEGIN:DAYLIGHT
TZOFFSETFROM:-0600
TZOFFSETTO:-0500
TZNAME:CDT
DTSTART:20220313T080000
END:DAYLIGHT
BEGIN:STANDARD
TZOFFSETFROM:-0500
TZOFFSETTO:-0600
TZNAME:CST
DTSTART:20221106T070000
END:STANDARD
BEGIN:DAYLIGHT
TZOFFSETFROM:-0600
TZOFFSETTO:-0500
TZNAME:CDT
DTSTART:20230312T080000
END:DAYLIGHT
BEGIN:STANDARD
TZOFFSETFROM:-0500
TZOFFSETTO:-0600
TZNAME:CST
DTSTART:20231105T070000
END:STANDARD
BEGIN:DAYLIGHT
TZOFFSETFROM:-0600
TZOFFSETTO:-0500
TZNAME:CDT
DTSTART:20240310T080000
END:DAYLIGHT
BEGIN:STANDARD
TZOFFSETFROM:-0500
TZOFFSETTO:-0600
TZNAME:CST
DTSTART:20241103T070000
END:STANDARD
END:VTIMEZONE
BEGIN:VEVENT
DTSTART;TZID=America/New_York:20230622T090000
DTEND;TZID=America/New_York:20230624T143000
DTSTAMP:20260422T100612
CREATED:20230601T000306Z
LAST-MODIFIED:20230601T000306Z
UID:3336-1687424400-1687617000@swrforum.com
SUMMARY:SWR Basic - Niki Wise of CrossWise SWR 2
DESCRIPTION:On Zoom!  Spell to Write and Read training seminar on June 22-24 is presented by endorsed trainer Niki Wise of Georgia.  Registration begins June 1 by email – crosswiseswr@gmail.com.  Email your intention to attend and we will register you with more info provided.   \n$150 is for first-timers\, and Alumni and Pastors/Missional discounted cost is $75. \nDays 1 and 2 meet EASTERN Time 9:00 to 2:30.  Day 3 ends at 1:00.  See you there!
URL:https://swrforum.com/event/swr-basic-niki-wise-of-crosswise-swr-2/
LOCATION:Zoom\, TX
ATTACH;FMTTYPE=image/jpeg:https://swrforum.com/wp-content/uploads/2023/05/23-06-Niki-2.jpg
ORGANIZER;CN="Niki Wise":MAILTO:crosswiseswr@gmail.com
END:VEVENT
BEGIN:VEVENT
DTSTART;TZID=America/Chicago:20230622T130000
DTEND;TZID=America/Chicago:20230624T160000
DTSTAMP:20260422T100612
CREATED:20230531T224629Z
LAST-MODIFIED:20230531T224818Z
UID:3325-1687438800-1687622400@swrforum.com
SUMMARY:SWR Intermediate for Primary Log – June 22-24 from Wise Spelling on Zoom
DESCRIPTION:Spelling rules rule!  SWR INTERMEDIATE on Zoom. This is a follow-up “Step 2” seminar for Texas Two-Step Spelling.  Focus on teaching 1st-3rd graders.  Since Step 1 Basic addressed Steps 1-27 in the Primary Log\, here in Intermediate you will complete the Scope & Sequence with a work-through of Steps 28-40 using Primary Log + Chart Masters.  Instructor Rhonda Bedee models rules\, reference pages\, and advanced phonograms.  Practical class with interactive instruction.  You will observe & participate like the students you teach\, and after observing Rhonda you may walk through a turn of spelling rule Q&A in the teacher role.    \n\nSchools may request invoice or purchase order for a group:  wisespelling.swr@att.net or call/text 281.382.6746.\nTo teach in Black Log with older students\, consider SWR Advanced Seminar instead.
URL:https://swrforum.com/event/swr-intermediate-for-primary-log-june-22-24-from-wise-spelling-on-zoom/
LOCATION:Zoom\, TX
ATTACH;FMTTYPE=image/jpeg:https://swrforum.com/wp-content/uploads/2023/05/23-06-Rhonda-Intermediate.jpg
END:VEVENT
END:VCALENDAR