BEGIN:VCALENDAR
VERSION:2.0
PRODID:-//SWR Forum &amp; Resource Center - ECPv6.15.14//NONSGML v1.0//EN
CALSCALE:GREGORIAN
METHOD:PUBLISH
X-ORIGINAL-URL:https://swrforum.com
X-WR-CALDESC:Events for SWR Forum &amp; Resource Center
REFRESH-INTERVAL;VALUE=DURATION:PT1H
X-Robots-Tag:noindex
X-PUBLISHED-TTL:PT1H
BEGIN:VTIMEZONE
TZID:America/New_York
BEGIN:DAYLIGHT
TZOFFSETFROM:-0500
TZOFFSETTO:-0400
TZNAME:EDT
DTSTART:20220313T070000
END:DAYLIGHT
BEGIN:STANDARD
TZOFFSETFROM:-0400
TZOFFSETTO:-0500
TZNAME:EST
DTSTART:20221106T060000
END:STANDARD
BEGIN:DAYLIGHT
TZOFFSETFROM:-0500
TZOFFSETTO:-0400
TZNAME:EDT
DTSTART:20230312T070000
END:DAYLIGHT
BEGIN:STANDARD
TZOFFSETFROM:-0400
TZOFFSETTO:-0500
TZNAME:EST
DTSTART:20231105T060000
END:STANDARD
BEGIN:DAYLIGHT
TZOFFSETFROM:-0500
TZOFFSETTO:-0400
TZNAME:EDT
DTSTART:20240310T070000
END:DAYLIGHT
BEGIN:STANDARD
TZOFFSETFROM:-0400
TZOFFSETTO:-0500
TZNAME:EST
DTSTART:20241103T060000
END:STANDARD
END:VTIMEZONE
BEGIN:VEVENT
DTSTART;TZID=America/New_York:20230615T090000
DTEND;TZID=America/New_York:20230617T143000
DTSTAMP:20260422T100235
CREATED:20230531T234155Z
LAST-MODIFIED:20230617T070512Z
UID:3333-1686819600-1687012200@swrforum.com
SUMMARY:SWR Basic – Niki Wise of CrossWise SWR 1
DESCRIPTION:UNEXPECTED UPDATE:  “Yesterday afternoon my husband and I were informed that there was an issue with the buyer paperwork that prevented the closing on the sale of our home. As a result\, we were unable to move yesterday!  In fact\, the sale of this house (Albany House) was part of our contingency for purchasing our new home (Thomasville House). All that to say\, everything has been shifted to next Friday! \nAs you can imagine\, this has been a trying time\, because I will end up helping to load a truck on Thursday\, June 15 and sign paperwork for the sale of my house on June 16th in one town (Albany) before driving to the new town (Thomasville) and signing paperwork for the new home. Did I mention that I will need to also unload on the 16th as well?\nTo make a long story short\, these circumstances have forced me to realize I will be unable to offer my BASIC Training seminar June 15-17. This is a first for me to cancel any training I have offered over the years.\n\nHERE IS THE GOOD NEWS: Carolyn Gibbens has room for her training seminar on June 12-14 class (yes\, this coming Monday). The registration link is here:\, https://www.swr-texastrainers.net \n\n\n\n\nI am offering first dibs to my June 15-17 registered attendees to have a reimbursement in order to sign up with Carolyn Jolly Gibbens class or to shift over to my June 22-24 class.\nI am disappointed\, but hope you will accept my apologies for this inconvenience. Thank you for understanding.”\nOn Zoom!  Spell to Write and Read training seminar on June 15-17 is presented by endorsed trainer Niki Wise of Georgia.  Registration begins June 1 by email – crosswiseswr@gmail.com.  Email your intention to attend and we will register you with more info provided.   \n$150 is for first-timers\, and Alumni and Pastors/Missional discounted cost is $75. \nDays 1 and 2 meet EASTERN Time 9:00 to 2:30.  Day 3 ends at 1:00.  See you there!
URL:https://swrforum.com/event/swr-basic-niki-wise-of-crosswise-swr/
LOCATION:Zoom\, TX
ATTACH;FMTTYPE=image/jpeg:https://swrforum.com/wp-content/uploads/2023/05/23-06-Niki-1-canceled.jpg
ORGANIZER;CN="Niki Wise":MAILTO:crosswiseswr@gmail.com
END:VEVENT
END:VCALENDAR