BEGIN:VCALENDAR
VERSION:2.0
PRODID:-//SWR Forum &amp; Resource Center - ECPv6.15.14//NONSGML v1.0//EN
CALSCALE:GREGORIAN
METHOD:PUBLISH
X-WR-CALNAME:SWR Forum &amp; Resource Center
X-ORIGINAL-URL:https://swrforum.com
X-WR-CALDESC:Events for SWR Forum &amp; Resource Center
REFRESH-INTERVAL;VALUE=DURATION:PT1H
X-Robots-Tag:noindex
X-PUBLISHED-TTL:PT1H
BEGIN:VTIMEZONE
TZID:America/Chicago
BEGIN:DAYLIGHT
TZOFFSETFROM:-0600
TZOFFSETTO:-0500
TZNAME:CDT
DTSTART:20220313T080000
END:DAYLIGHT
BEGIN:STANDARD
TZOFFSETFROM:-0500
TZOFFSETTO:-0600
TZNAME:CST
DTSTART:20221106T070000
END:STANDARD
BEGIN:DAYLIGHT
TZOFFSETFROM:-0600
TZOFFSETTO:-0500
TZNAME:CDT
DTSTART:20230312T080000
END:DAYLIGHT
BEGIN:STANDARD
TZOFFSETFROM:-0500
TZOFFSETTO:-0600
TZNAME:CST
DTSTART:20231105T070000
END:STANDARD
BEGIN:DAYLIGHT
TZOFFSETFROM:-0600
TZOFFSETTO:-0500
TZNAME:CDT
DTSTART:20240310T080000
END:DAYLIGHT
BEGIN:STANDARD
TZOFFSETFROM:-0500
TZOFFSETTO:-0600
TZNAME:CST
DTSTART:20241103T070000
END:STANDARD
END:VTIMEZONE
BEGIN:VEVENT
DTSTART;TZID=America/Chicago:20230130T140000
DTEND;TZID=America/Chicago:20230204T170000
DTSTAMP:20260422T190741
CREATED:20221228T030431Z
LAST-MODIFIED:20221228T030431Z
UID:2667-1675087200-1675530000@swrforum.com
SUMMARY:SWR Intermediate for Primary Log – week of Jan. 30 by Wise Spelling on Zoom
DESCRIPTION:SWR INTERMEDIATE on Zoom.  This is a follow-up “Step 2” seminar for Texas Two-Step Spelling.  Focus on teaching 1st-3rd graders.  Since Step 1 Basic addressed Steps 1-27 in the Primary Log\, here in Intermediate you will complete the Scope & Sequence with a work-through of Steps 28-40 using Primary Log + Chart Masters.  Instructor Rhonda Bedee models rules\, reference pages\, and advanced phonograms.  Practical class with interactive instruction.  You will observe & participate like the students you teach\, and after observing Rhonda you may walk through a turn of spelling rule Q&A in the teacher role. \n\nSchools may request invoice or purchase order for a group:  wisespelling.swr@att.net or call/text 281.382.6746.\nTo teach in Black Log with older students\, consider SWR Advanced Seminar instead.\nRead & Register here:  https://brushfire.com/wise-spelling-swr/intermediate-jan30-feb1-4/544107
URL:https://swrforum.com/event/swr-intermediate-for-primary-log-week-of-jan-30-by-wise-spelling-on-zoom/
LOCATION:Zoom\, TX
ATTACH;FMTTYPE=image/jpeg:https://swrforum.com/wp-content/uploads/2022/12/23-1-2-Rhonda-Intermediate.jpg
END:VEVENT
END:VCALENDAR