BEGIN:VCALENDAR
VERSION:2.0
PRODID:-//SWR Forum &amp; Resource Center - ECPv6.15.14//NONSGML v1.0//EN
CALSCALE:GREGORIAN
METHOD:PUBLISH
X-ORIGINAL-URL:https://swrforum.com
X-WR-CALDESC:Events for SWR Forum &amp; Resource Center
REFRESH-INTERVAL;VALUE=DURATION:PT1H
X-Robots-Tag:noindex
X-PUBLISHED-TTL:PT1H
BEGIN:VTIMEZONE
TZID:America/Los_Angeles
BEGIN:DAYLIGHT
TZOFFSETFROM:-0800
TZOFFSETTO:-0700
TZNAME:PDT
DTSTART:20210314T100000
END:DAYLIGHT
BEGIN:STANDARD
TZOFFSETFROM:-0700
TZOFFSETTO:-0800
TZNAME:PST
DTSTART:20211107T090000
END:STANDARD
BEGIN:DAYLIGHT
TZOFFSETFROM:-0800
TZOFFSETTO:-0700
TZNAME:PDT
DTSTART:20220313T100000
END:DAYLIGHT
BEGIN:STANDARD
TZOFFSETFROM:-0700
TZOFFSETTO:-0800
TZNAME:PST
DTSTART:20221106T090000
END:STANDARD
BEGIN:DAYLIGHT
TZOFFSETFROM:-0800
TZOFFSETTO:-0700
TZNAME:PDT
DTSTART:20230312T100000
END:DAYLIGHT
BEGIN:STANDARD
TZOFFSETFROM:-0700
TZOFFSETTO:-0800
TZNAME:PST
DTSTART:20231105T090000
END:STANDARD
END:VTIMEZONE
BEGIN:VEVENT
DTSTART;TZID=America/Los_Angeles:20220706T120000
DTEND;TZID=America/Los_Angeles:20220706T130000
DTSTAMP:20260423T053019
CREATED:20220602T224020Z
LAST-MODIFIED:20220602T224402Z
UID:1362-1657108800-1657112400@swrforum.com
SUMMARY:Worksheets Workshop
DESCRIPTION:Receive originals and build teacher keys for more spelling markings practice:  Continents\, Planets\, History\, Science\, and more.  Great for middle schoolers & 3rd-5th graders.  1 hour. \nThis is one of three Make It Take It SWR Review sessions offered by Rhonda. See details here: https://www.wisespellingswr.com/seminar-locations/make-it-take-it-swr-review
URL:https://swrforum.com/event/worksheets-workshop/
LOCATION:Zoom\, TX
END:VEVENT
END:VCALENDAR