BEGIN:VCALENDAR
VERSION:2.0
PRODID:-//SWR Forum &amp; Resource Center - ECPv6.15.14//NONSGML v1.0//EN
CALSCALE:GREGORIAN
METHOD:PUBLISH
X-WR-CALNAME:SWR Forum &amp; Resource Center
X-ORIGINAL-URL:https://swrforum.com
X-WR-CALDESC:Events for SWR Forum &amp; Resource Center
REFRESH-INTERVAL;VALUE=DURATION:PT1H
X-Robots-Tag:noindex
X-PUBLISHED-TTL:PT1H
BEGIN:VTIMEZONE
TZID:America/Los_Angeles
BEGIN:DAYLIGHT
TZOFFSETFROM:-0800
TZOFFSETTO:-0700
TZNAME:PDT
DTSTART:20210314T100000
END:DAYLIGHT
BEGIN:STANDARD
TZOFFSETFROM:-0700
TZOFFSETTO:-0800
TZNAME:PST
DTSTART:20211107T090000
END:STANDARD
BEGIN:DAYLIGHT
TZOFFSETFROM:-0800
TZOFFSETTO:-0700
TZNAME:PDT
DTSTART:20220313T100000
END:DAYLIGHT
BEGIN:STANDARD
TZOFFSETFROM:-0700
TZOFFSETTO:-0800
TZNAME:PST
DTSTART:20221106T090000
END:STANDARD
BEGIN:DAYLIGHT
TZOFFSETFROM:-0800
TZOFFSETTO:-0700
TZNAME:PDT
DTSTART:20230312T100000
END:DAYLIGHT
BEGIN:STANDARD
TZOFFSETFROM:-0700
TZOFFSETTO:-0800
TZNAME:PST
DTSTART:20231105T090000
END:STANDARD
END:VTIMEZONE
BEGIN:VEVENT
DTSTART;TZID=America/Los_Angeles:20220705T120000
DTEND;TZID=America/Los_Angeles:20220705T133000
DTSTAMP:20260423T052721
CREATED:20220602T222636Z
LAST-MODIFIED:20220602T224429Z
UID:1356-1657022400-1657027800@swrforum.com
SUMMARY:Color Your SWR World
DESCRIPTION:Use 6 highlighters to begin color-coding your teacher texts according to phonograms\, rules\, grammar\, etc.\, for 1.5 hours; you will receive a guide to continue in your own time.  Excellent review of SWR organization in preparation of 2022-23 school year. \n  \nThis is one of three Make It Take It SWR Review sessions offered by Rhonda. See details here: https://www.wisespellingswr.com/seminar-locations/make-it-take-it-swr-review
URL:https://swrforum.com/event/color-your-swr-world-w-rhonda-bedee/
LOCATION:Zoom\, TX
END:VEVENT
END:VCALENDAR